BEGIN:VCALENDAR
VERSION:2.0
PRODID:-//Author Taylor Baldwin Kiland - ECPv6.15.20//NONSGML v1.0//EN
CALSCALE:GREGORIAN
METHOD:PUBLISH
X-WR-CALNAME:Author Taylor Baldwin Kiland
X-ORIGINAL-URL:https://taylorkiland.com
X-WR-CALDESC:Events for Author Taylor Baldwin Kiland
REFRESH-INTERVAL;VALUE=DURATION:PT1H
X-Robots-Tag:noindex
X-PUBLISHED-TTL:PT1H
BEGIN:VTIMEZONE
TZID:America/New_York
BEGIN:DAYLIGHT
TZOFFSETFROM:-0500
TZOFFSETTO:-0400
TZNAME:EDT
DTSTART:20220313T070000
END:DAYLIGHT
BEGIN:STANDARD
TZOFFSETFROM:-0400
TZOFFSETTO:-0500
TZNAME:EST
DTSTART:20221106T060000
END:STANDARD
BEGIN:DAYLIGHT
TZOFFSETFROM:-0500
TZOFFSETTO:-0400
TZNAME:EDT
DTSTART:20230312T070000
END:DAYLIGHT
BEGIN:STANDARD
TZOFFSETFROM:-0400
TZOFFSETTO:-0500
TZNAME:EST
DTSTART:20231105T060000
END:STANDARD
BEGIN:DAYLIGHT
TZOFFSETFROM:-0500
TZOFFSETTO:-0400
TZNAME:EDT
DTSTART:20240310T070000
END:DAYLIGHT
BEGIN:STANDARD
TZOFFSETFROM:-0400
TZOFFSETTO:-0500
TZNAME:EST
DTSTART:20241103T060000
END:STANDARD
END:VTIMEZONE
BEGIN:VTIMEZONE
TZID:America/Los_Angeles
BEGIN:DAYLIGHT
TZOFFSETFROM:-0800
TZOFFSETTO:-0700
TZNAME:PDT
DTSTART:20220313T100000
END:DAYLIGHT
BEGIN:STANDARD
TZOFFSETFROM:-0700
TZOFFSETTO:-0800
TZNAME:PST
DTSTART:20221106T090000
END:STANDARD
BEGIN:DAYLIGHT
TZOFFSETFROM:-0800
TZOFFSETTO:-0700
TZNAME:PDT
DTSTART:20230312T100000
END:DAYLIGHT
BEGIN:STANDARD
TZOFFSETFROM:-0700
TZOFFSETTO:-0800
TZNAME:PST
DTSTART:20231105T090000
END:STANDARD
BEGIN:DAYLIGHT
TZOFFSETFROM:-0800
TZOFFSETTO:-0700
TZNAME:PDT
DTSTART:20240310T100000
END:DAYLIGHT
BEGIN:STANDARD
TZOFFSETFROM:-0700
TZOFFSETTO:-0800
TZNAME:PST
DTSTART:20241103T090000
END:STANDARD
END:VTIMEZONE
BEGIN:VTIMEZONE
TZID:America/Chicago
BEGIN:DAYLIGHT
TZOFFSETFROM:-0600
TZOFFSETTO:-0500
TZNAME:CDT
DTSTART:20220313T080000
END:DAYLIGHT
BEGIN:STANDARD
TZOFFSETFROM:-0500
TZOFFSETTO:-0600
TZNAME:CST
DTSTART:20221106T070000
END:STANDARD
BEGIN:DAYLIGHT
TZOFFSETFROM:-0600
TZOFFSETTO:-0500
TZNAME:CDT
DTSTART:20230312T080000
END:DAYLIGHT
BEGIN:STANDARD
TZOFFSETFROM:-0500
TZOFFSETTO:-0600
TZNAME:CST
DTSTART:20231105T070000
END:STANDARD
BEGIN:DAYLIGHT
TZOFFSETFROM:-0600
TZOFFSETTO:-0500
TZNAME:CDT
DTSTART:20240310T080000
END:DAYLIGHT
BEGIN:STANDARD
TZOFFSETFROM:-0500
TZOFFSETTO:-0600
TZNAME:CST
DTSTART:20241103T070000
END:STANDARD
END:VTIMEZONE
BEGIN:VEVENT
DTSTART;TZID=America/New_York:20230915T110000
DTEND;TZID=America/New_York:20230915T120000
DTSTAMP:20260423T231030
CREATED:20230428T193926Z
LAST-MODIFIED:20230504T194745Z
UID:875-1694775600-1694779200@taylorkiland.com
SUMMARY:Quincy\, MA — POW/MIA Recognition Ceremony
DESCRIPTION:POW/MIA Recognition Ceremony at the Clock Tower Marina Bay hosted by Quincy Mayor Tom Koch: Join coauthors and  Quincy Mayor Tom Koch for POW/MIA recognition ceremony followed by lunch book talk.
URL:https://taylorkiland.com/event/quincy-ma-national-pow-mia-recognition-day/
LOCATION:Vietnam Veterans Memorial Clock Tower\, Quincy\, MA\, 02169\, United States
ATTACH;FMTTYPE=image/jpeg:https://taylorkiland.com/wp-content/uploads/2023/04/POW-MIA-US-flags.jpeg
END:VEVENT
BEGIN:VEVENT
DTSTART;TZID=America/New_York:20230914T140000
DTEND;TZID=America/New_York:20230914T150000
DTSTAMP:20260423T231030
CREATED:20230306T001640Z
LAST-MODIFIED:20230428T193452Z
UID:721-1694700000-1694703600@taylorkiland.com
SUMMARY:Quincy\, MA —Thomas Crane Library
DESCRIPTION:Book talk with coauthors and POW family members.
URL:https://taylorkiland.com/event/quincy-massachusetts-national-pow-mia-recognition-day-event-hosted-by-quincy-mayor-thomas-p-koch/
LOCATION:Thomas Crane Library\, 40 Washington St.\, Quincy\, MA\, United States
ATTACH;FMTTYPE=image/jpeg:https://taylorkiland.com/wp-content/uploads/2023/03/Quincy-Library.jpg
END:VEVENT
BEGIN:VEVENT
DTSTART;TZID=America/New_York:20230829T130000
DTEND;TZID=America/New_York:20230829T140000
DTSTAMP:20260423T231030
CREATED:20230306T000930Z
LAST-MODIFIED:20230428T192940Z
UID:718-1693314000-1693317600@taylorkiland.com
SUMMARY:Jacksonville\, FL – Fleet Landing Retirement Community
DESCRIPTION:Coauthors will discuss the book with book characters Capt. Dick Strattona and Alice Stratton\, and The Bookmark bookstore will be onsite to sell books.
URL:https://taylorkiland.com/event/jacksonville-florida-fleet-landing-retirement-community/
LOCATION:Fleet Landing Retirement Community\, 1 Fleet Landing Blvd\, Atlantic Beach\, FL\, 32233\, United States
CATEGORIES:Book Signings
ATTACH;FMTTYPE=image/jpeg:https://taylorkiland.com/wp-content/uploads/2023/03/unsplash-image-9Zs3GinLmNo.jpg
END:VEVENT
BEGIN:VEVENT
DTSTART;TZID=America/New_York:20230810T120000
DTEND;TZID=America/New_York:20230810T140000
DTSTAMP:20260423T231030
CREATED:20230428T201027Z
LAST-MODIFIED:20230428T201203Z
UID:884-1691668800-1691676000@taylorkiland.com
SUMMARY:Greenville\, SC — Poinsett Club
DESCRIPTION:Coauthors will speak at the club’s military lecture series luncheon and Fiction Addiction bookstore will be onsite to sell books.
URL:https://taylorkiland.com/event/greenville-sc-poinsett-club/
LOCATION:Poinsett Club\, 807 E. Washington St.\, Greenville\, SC\, United States
ATTACH;FMTTYPE=image/jpeg:https://taylorkiland.com/wp-content/uploads/2023/04/poinsett-club.jpg
END:VEVENT
BEGIN:VEVENT
DTSTART;TZID=America/New_York:20230723T133000
DTEND;TZID=America/New_York:20230723T143000
DTSTAMP:20260423T231030
CREATED:20230616T215402Z
LAST-MODIFIED:20230623T154658Z
UID:976-1690119000-1690122600@taylorkiland.com
SUMMARY:Tampa\, FL — Barnes & Noble
DESCRIPTION:Meet the author\, book discussion\, and signing at Barnes and Noble\, Carrollwood\, Tampa\, FL: Meet Local Author Judy Silverstein Gray (barnesandnoble.com).
URL:https://taylorkiland.com/event/tampa-fl-barnes-noble/
LOCATION:Barnes & Noble\, Lewisburg\, PA\, 11802 N. Dale Mabry Highway\, Tampa\, FL\, 33618\, United States
ATTACH;FMTTYPE=image/jpeg:https://taylorkiland.com/wp-content/uploads/2023/04/barnesnoble.jpeg
END:VEVENT
BEGIN:VEVENT
DTSTART;TZID=America/Los_Angeles:20230712T120000
DTEND;TZID=America/Los_Angeles:20230712T130000
DTSTAMP:20260423T231030
CREATED:20230428T192436Z
LAST-MODIFIED:20230623T154523Z
UID:862-1689163200-1689166800@taylorkiland.com
SUMMARY:Coronado\, CA — Rotary Club
DESCRIPTION:Coauthor Taylor Kiland will speak to Rotary members at their weekly lunch meeting.
URL:https://taylorkiland.com/event/coronado-ca-rotary-club/
LOCATION:Coronado Rotary Club\, Coronado\, CA\, United States
ATTACH;FMTTYPE=image/jpeg:https://taylorkiland.com/wp-content/uploads/2023/03/2023_0004_Coronado.jpg
END:VEVENT
BEGIN:VEVENT
DTSTART;TZID=America/New_York:20230701T170000
DTEND;TZID=America/New_York:20230701T180000
DTSTAMP:20260423T231030
CREATED:20230616T214616Z
LAST-MODIFIED:20230616T214745Z
UID:971-1688230800-1688234400@taylorkiland.com
SUMMARY:Williamsport\, PA — Peter Herdic House
DESCRIPTION:To kick off Independence Day festivities\, author Judy Gray is the annual featured reader of the Declaration of Independence. Call 570.322.0165 for dinner reservations.
URL:https://taylorkiland.com/event/williamsport-pa-peter-herdic-house/
LOCATION:Peter Herdic House\, 407 W. Fourth St.\, Williamsport\, PA\, 17701\, United States
ATTACH;FMTTYPE=image/jpeg:https://taylorkiland.com/wp-content/uploads/2023/06/peter-herdic.jpg
END:VEVENT
BEGIN:VEVENT
DTSTART;TZID=America/New_York:20230630T170000
DTEND;TZID=America/New_York:20230630T190000
DTSTAMP:20260423T231030
CREATED:20230616T213017Z
LAST-MODIFIED:20230621T141008Z
UID:959-1688144400-1688151600@taylorkiland.com
SUMMARY:Lewisburg\, PA — Barnes & Noble
DESCRIPTION:Meet author Judy Gray and learn why the book Unwavering should be on your bookshelf.
URL:https://taylorkiland.com/event/lewisburg-pa-barnes-noble/
LOCATION:Barnes & Noble\, Lewisburg\, PA\, 11802 N. Dale Mabry Highway\, Tampa\, FL\, 33618\, United States
ATTACH;FMTTYPE=image/jpeg:https://taylorkiland.com/wp-content/uploads/2023/04/barnesnoble.jpeg
END:VEVENT
BEGIN:VEVENT
DTSTART;TZID=America/New_York:20230627T163000
DTEND;TZID=America/New_York:20230627T183000
DTSTAMP:20260423T231030
CREATED:20230616T214029Z
LAST-MODIFIED:20230623T154246Z
UID:964-1687883400-1687890600@taylorkiland.com
SUMMARY:Lewisburg\, PA — Private Event
DESCRIPTION:Email the authors to book your private event: Unwaveringbook@gmail.com \nREGISTER NOW: https://my.hamilton.edu/alumni/event-registration
URL:https://taylorkiland.com/event/lewisburg-pa-private-event/
LOCATION:FL
ATTACH;FMTTYPE=image/jpeg:https://taylorkiland.com/wp-content/uploads/2023/06/private-event.jpg
END:VEVENT
BEGIN:VEVENT
DTSTART;TZID=America/New_York:20230625T133000
DTEND;TZID=America/New_York:20230625T143000
DTSTAMP:20260423T231030
CREATED:20230525T184329Z
LAST-MODIFIED:20230616T213355Z
UID:926-1687699800-1687703400@taylorkiland.com
SUMMARY:Buffalo Valley Lutheran Village
DESCRIPTION:Join us for an engaging multimedia book discussion\, held at Buffalo Valley Lutheran Village. Meet the authors and learn more about the gutsy POW and MIA wives who changed the course of history. Admission is free\, refreshments will be served\, and there is ample parking.
URL:https://taylorkiland.com/event/buffalo-valley-lutheran-village/
LOCATION:Buffalo Valley Lutheran Village\, 189 E. Tressler Blvd.\, Lewisburg\, PA\, 17837
ATTACH;FMTTYPE=image/jpeg:https://taylorkiland.com/wp-content/uploads/2023/04/POW-MIA-US-flags.jpeg
END:VEVENT
BEGIN:VEVENT
DTSTART;TZID=America/New_York:20230624T100000
DTEND;TZID=America/New_York:20230624T120000
DTSTAMP:20260423T231030
CREATED:20230306T000112Z
LAST-MODIFIED:20230616T184620Z
UID:712-1687600800-1687608000@taylorkiland.com
SUMMARY:Lewisburg\, PA – Union County Veterans Parade
DESCRIPTION:Authors Judy Gray and Taylor Kiland are the 2023 Parade Marshals. Meet and chat with the duo at the picnic and concert in the President’s Grove\, following the parade.
URL:https://taylorkiland.com/event/lewisburg-pennsylvania-union-county-veterans-parade/
LOCATION:Market Street\, Lewisburg\, Market Street\, Lewisburg\, PA\, 17837\, United States
ATTACH;FMTTYPE=image/jpeg:https://taylorkiland.com/wp-content/uploads/2023/03/unsplash-image-9Zs3GinLmNo.jpg
END:VEVENT
BEGIN:VEVENT
DTSTART;TZID=America/New_York:20230621T183000
DTEND;TZID=America/New_York:20230621T200000
DTSTAMP:20260423T231030
CREATED:20230305T235454Z
LAST-MODIFIED:20230428T195433Z
UID:709-1687372200-1687377600@taylorkiland.com
SUMMARY:Arlington\, VA — Army Navy Country Club
DESCRIPTION:Join the coauthors and MIA widow Candy Parish Ellis and POW wives Andrea Rander and Emilee Reynolds for a book discussion and signing. Candy was 22 years old and the mother of a three-week-old son when her husband\, Navy Lt. Chuck Parish\, was shot down over North Vietnam. He was never heard from again. Andrea’s husband\, an Army intelligence officer\, was captured during the Battle of Hue and held as a POW for five years. Emilee was engaged to Air Force Lt. Jon Reynolds when he was shot down in November 1965. His status was unknown for three years. As a fiancée\, Emilee had no rights and no status.
URL:https://taylorkiland.com/event/arlington-virginia-army-navy-country-club/
LOCATION:Army Navy Country Club\, 1700 Army Navy Dr\, Arlington\, VA\, 22202\, United States
ATTACH;FMTTYPE=image/jpeg:https://taylorkiland.com/wp-content/uploads/2023/03/2023_0000_ArmyNavyCC.jpg
END:VEVENT
BEGIN:VEVENT
DTSTART;TZID=America/New_York:20230620T120000
DTEND;TZID=America/New_York:20230620T130000
DTSTAMP:20260423T231030
CREATED:20230425T185452Z
LAST-MODIFIED:20230616T185421Z
UID:792-1687262400-1687266000@taylorkiland.com
SUMMARY:Richmond\, VA — Virginia War Memorial
DESCRIPTION:Coauthor Taylor Kiland will discuss her new book with teachers from around the state of Virginia attending a Teachers Institute
URL:https://taylorkiland.com/event/richmond-virginia-virginia-war-memorial/
LOCATION:Virginia War Memorial\, 621 S. Belvidere St\, Richmond\, VA\, 23220\, United States
ATTACH;FMTTYPE=image/jpeg:https://taylorkiland.com/wp-content/uploads/2023/04/VA-war-memorial.jpg
END:VEVENT
BEGIN:VEVENT
DTSTART;TZID=America/New_York:20230614T120000
DTEND;TZID=America/New_York:20230614T140000
DTSTAMP:20260423T231030
CREATED:20230428T185359Z
LAST-MODIFIED:20230428T185917Z
UID:850-1686744000-1686751200@taylorkiland.com
SUMMARY:Norfolk\, VA — Sertoma Club
DESCRIPTION:Coauthor Taylor Kiland will discuss her new book\, Unwavering: The Wives Who Fought to Ensure No Man is Left Behind.
URL:https://taylorkiland.com/event/norfolk-va-sertoma-club/
LOCATION:FL
ATTACH;FMTTYPE=image/jpeg:https://taylorkiland.com/wp-content/uploads/2023/04/Sertoma.jpg
END:VEVENT
BEGIN:VEVENT
DTSTART;TZID=America/New_York:20230613T133000
DTEND;TZID=America/New_York:20230613T150000
DTSTAMP:20260423T231030
CREATED:20230425T194230Z
LAST-MODIFIED:20230430T205036Z
UID:802-1686663000-1686668400@taylorkiland.com
SUMMARY:Norfolk\, VA — Harbors Edge
DESCRIPTION:Coauthor Taylor Kiland will discuss her new book with residents and Prince Books will be onsite to sell books.
URL:https://taylorkiland.com/event/harbors-edge/
LOCATION:Harbors Edge\, One Colley Ave\, Norfolk\, VA\, 23510\, United States
ATTACH;FMTTYPE=image/jpeg:https://taylorkiland.com/wp-content/uploads/2023/04/Harbors-Edge.jpg
END:VEVENT
BEGIN:VEVENT
DTSTART;TZID=America/New_York:20230601T120000
DTEND;TZID=America/New_York:20230601T133000
DTSTAMP:20260423T231030
CREATED:20230305T235158Z
LAST-MODIFIED:20230505T132417Z
UID:706-1685620800-1685626200@taylorkiland.com
SUMMARY:Annapolis\, MD — Rotary Club
DESCRIPTION:Book talk with coauthor Taylor Kiland for Unwavering: The Wives Who Fought to Ensure No Man is Left Behind.
URL:https://taylorkiland.com/event/annapolis-maryland/
LOCATION:Annapolis Rotary Club\, Annapolis\, MD\, United States
ATTACH;FMTTYPE=image/jpeg:https://taylorkiland.com/wp-content/uploads/2023/03/Annapolis-MD.jpg
END:VEVENT
BEGIN:VEVENT
DTSTART;TZID=America/Los_Angeles:20230523T080000
DTEND;TZID=America/Los_Angeles:20230523T100000
DTSTAMP:20260423T231030
CREATED:20230304T024712Z
LAST-MODIFIED:20230428T184845Z
UID:693-1684828800-1684836000@taylorkiland.com
SUMMARY:Orange County\, CA - Lyon Air Museum — PRIVATE EVENT
DESCRIPTION:Breakfast with the authors. This is a private event.
URL:https://taylorkiland.com/event/santa-ana-california/
LOCATION:Lyon Air Museum\, 19300 Ike Jones Road\, Santa Ana\, CA\, 92707\, United States
CATEGORIES:Book Signings
ATTACH;FMTTYPE=image/jpeg:https://taylorkiland.com/wp-content/uploads/2023/03/Lyon-Air-Museum.jpg
END:VEVENT
BEGIN:VEVENT
DTSTART;TZID=America/Los_Angeles:20230522T183000
DTEND;TZID=America/Los_Angeles:20230522T193000
DTSTAMP:20260423T231030
CREATED:20230305T234807Z
LAST-MODIFIED:20230505T172037Z
UID:703-1684780200-1684783800@taylorkiland.com
SUMMARY:Manhattan Beach — California
DESCRIPTION:Join coauthors and book character\, MIA widow Pat Mearns\, for a book talk and wine & cheese. \nREGISTER HERE: https://www.pagesabookstore.com/event/taylor-kiland-joins-pages \n 
URL:https://taylorkiland.com/event/manhattan-beach-california/
LOCATION:Pages Bookstore\, 904 Manhattan Ave\, Manhattan Beach\, CA\, 90266\, United States
ATTACH;FMTTYPE=image/jpeg:https://taylorkiland.com/wp-content/uploads/2023/03/pages-bookstore.jpg
END:VEVENT
BEGIN:VEVENT
DTSTART;TZID=America/Los_Angeles:20230519T100000
DTEND;TZID=America/Los_Angeles:20230519T140000
DTSTAMP:20260423T231030
CREATED:20230428T181617Z
LAST-MODIFIED:20230428T182419Z
UID:837-1684490400-1684504800@taylorkiland.com
SUMMARY:San Diego\, CA — USS Midway
DESCRIPTION:Meet Unwavering coauthors and get your book signed while enjoying a visit to the aircraft carrier museum USS Midway.
URL:https://taylorkiland.com/event/san-diego-ca-uss-midway/
LOCATION:USS Midway Museum\, 910 N. Harbor Drive\, San Diego\, CA\, 92101\, United States
ATTACH;FMTTYPE=image/jpeg:https://taylorkiland.com/wp-content/uploads/2023/04/USS-Midway.jpg
END:VEVENT
BEGIN:VEVENT
DTSTART;TZID=America/Los_Angeles:20230518T190000
DTEND;TZID=America/Los_Angeles:20230518T203000
DTSTAMP:20260423T231030
CREATED:20230305T234521Z
LAST-MODIFIED:20230505T172204Z
UID:700-1684436400-1684441800@taylorkiland.com
SUMMARY:Coronado\, CA — Performing Arts Center
DESCRIPTION:Coronado Cultural Arts Commission and Coronado Public Library host a fireside chat with book character and MIA widow Mrs. Pat Mearns\,  coauthors\, and moderator Dean Nelson. Mrs. Mearns’ husband\, Air Force Maj. Art Mearns\, went missing November 11\, 1966\, which led her on a quest to Capitol Hill\, the White House\, and around the world in search of answers. Was she a wife or a widow? It was not until 1977 that she received his remains. This is a free event\, but special reserved seating is available by pre-ordering your signed copy of the book. \nREGISTER NOW: https://coronadohistory.org/calendar/event/unwavering-author-event/ \n 
URL:https://taylorkiland.com/event/coronado-california/
LOCATION:Coronado High School Performing Arts Center\, 650 D Avenue\, Coronado\, CA\, 92118\, United States
ATTACH;FMTTYPE=image/jpeg:https://taylorkiland.com/wp-content/uploads/2023/03/2023_0004_Coronado.jpg
END:VEVENT
BEGIN:VEVENT
DTSTART;TZID=America/New_York:20230511T183000
DTEND;TZID=America/New_York:20230511T193000
DTSTAMP:20260423T231030
CREATED:20230428T175904Z
LAST-MODIFIED:20230505T131932Z
UID:830-1683829800-1683833400@taylorkiland.com
SUMMARY:Tampa\, FL — Oxford Bookstore
DESCRIPTION:Join coauthors and book character\, MIA widow Pat Mearns\, for a book talk and appetizers. \nREGISTER NOW:  https://www.eventbrite.com/e/unwavering-taylor-baldwin-kiland-judy-silverstein-gray-tickets-615220229267
URL:https://taylorkiland.com/event/tampa-fl-oxford-bookstore/
LOCATION:Oxford Exchange Bookstore\, 430 W. Kennedy Blvd.\, Tampa\, FL\, United States
ATTACH;FMTTYPE=image/jpeg:https://taylorkiland.com/wp-content/uploads/2023/04/oxford-bookstore.jpg
END:VEVENT
BEGIN:VEVENT
DTSTART;TZID=America/New_York:20230511T113000
DTEND;TZID=America/New_York:20230511T133000
DTSTAMP:20260423T231030
CREATED:20230304T133301Z
LAST-MODIFIED:20230505T172131Z
UID:696-1683804600-1683811800@taylorkiland.com
SUMMARY:Tampa\, FL — Women in Defense
DESCRIPTION:Join coauthors and book character\, MIA wife Pat Mearns\, for a book discussion and signing. When Pat’s husband\, Air Force Maj. Art Mearns\, went missing in 1966\, she went to Capitol Hill to seek answers: Was she a wife or a widow? Some congressional aides were seeking something else: a date with her. \nREGISTER HERE: https://events.r20.constantcontact.com/register/eventReg?oeidk=a07ejpq6b8e2bbd3dd3&oseq=&c=&ch= \n 
URL:https://taylorkiland.com/event/tampa-florida/
LOCATION:University Club of Tampa for Women In Defense Greater Tampa Bay Chapter\, 201 N Franklin St #3800\, Tampa\, FL\, 33602\, United States
CATEGORIES:Book Signings
ATTACH;FMTTYPE=image/jpeg:https://taylorkiland.com/wp-content/uploads/2023/03/2023_0003_Tampa-WID.jpg
END:VEVENT
BEGIN:VEVENT
DTSTART;TZID=America/New_York:20230504T183000
DTEND;TZID=America/New_York:20230504T193000
DTSTAMP:20260423T231030
CREATED:20230412T175422Z
LAST-MODIFIED:20230428T174915Z
UID:752-1683225000-1683228600@taylorkiland.com
SUMMARY:Brooklyn\, NY — Barnes & Noble
DESCRIPTION:Join coauthors for a book discussion and signing.  \nTo attend this event\, you will need to reserve and purchase a copy of Unwavering: The Wives Who Fought to Ensure No Man is Left Behind (9781637587379) from our Atlantic Avenue location. Please call (718) 473-3667 or stop by in-store at 194 Atlantic Ave between now and Thursday\, May 4th to reserve your copy.
URL:https://taylorkiland.com/event/brooklyn-new-york-barnes-noble/
LOCATION:Barnes & Noble Atlantic Avenue\, 194 Atlantic Ave\, Brooklyn\, NY\, 11201\, United States
CATEGORIES:Book Signings
ATTACH;FMTTYPE=image/jpeg:https://taylorkiland.com/wp-content/uploads/2023/04/barnesnoble.jpeg
END:VEVENT
BEGIN:VEVENT
DTSTART;TZID=America/Los_Angeles:20230329T080000
DTEND;TZID=America/Los_Angeles:20230329T170000
DTSTAMP:20260423T231030
CREATED:20230304T024155Z
LAST-MODIFIED:20230426T002314Z
UID:690-1680076800-1680109200@taylorkiland.com
SUMMARY:Vietnam POW Homecoming 50th Anniversary
DESCRIPTION:Vietnam POW Homecoming 50th Anniversary – Media interviews for “Open Doors: Vietnam POWs Fifty Years of Freedom”
URL:https://taylorkiland.com/event/vietnam-pow-homecoming-50th-anniversary/
LOCATION:USS Midway Museum\, 910 N. Harbor Drive\, San Diego\, CA\, 92101\, United States
ATTACH;FMTTYPE=image/jpeg:https://taylorkiland.com/wp-content/uploads/2023/03/unsplash-image-9Zs3GinLmNo.jpg
END:VEVENT
BEGIN:VEVENT
DTSTART;TZID=America/Los_Angeles:20230328T080000
DTEND;TZID=America/Los_Angeles:20230328T170000
DTSTAMP:20260423T231030
CREATED:20230304T022628Z
LAST-MODIFIED:20230304T022628Z
UID:688-1679990400-1680022800@taylorkiland.com
SUMMARY:Public reception for "Open Doors: Vietnam POWs Fifty Years of Freedom"
DESCRIPTION:
URL:https://taylorkiland.com/event/public-reception-for-open-doors-vietnam-pows-fifty-years-of-freedom/
LOCATION:Coronado Historical Association\, 1100 Orange Avenue\, Coronado\, CA\, 92118\, United States
END:VEVENT
BEGIN:VEVENT
DTSTART;TZID=America/New_York:20230323T103000
DTEND;TZID=America/New_York:20230323T113000
DTSTAMP:20260423T231030
CREATED:20230304T022344Z
LAST-MODIFIED:20230304T022738Z
UID:685-1679567400-1679571000@taylorkiland.com
SUMMARY:Lessons in Heroism: The Vietnam War POW Experience Panel Discussion
DESCRIPTION:Lessons in Heroism: The Vietnam War POW Experience Panel Discussion with Cdr. Porter Halyburton and Taylor Kiland\, moderated by moderator Ward Carroll\, followed by book signing of Lessons from The Hanoi Hilton.
URL:https://taylorkiland.com/event/lessons-in-heroism-the-vietnam-war-pow-experience-panel-discussion/
LOCATION:U.S. Naval Institute\, 291 Wood Road\, Annapolis\, MD\, 21402\, United States
END:VEVENT
BEGIN:VEVENT
DTSTART;TZID=America/Los_Angeles:20230302T173000
DTEND;TZID=America/Los_Angeles:20230302T210000
DTSTAMP:20260423T231030
CREATED:20230304T021022Z
LAST-MODIFIED:20230304T021022Z
UID:679-1677778200-1677790800@taylorkiland.com
SUMMARY:Opening reception for Open Doors: "Vietnam POWs Fifty Years of Freedom" Museum Exhibit
DESCRIPTION:
URL:https://taylorkiland.com/event/opening-reception-for-open-doors-vietnam-pows-fifty-years-of-freedom-museum-exhibit/
LOCATION:Coronado Historical Association\, 1100 Orange Avenue\, Coronado\, CA\, 92118\, United States
END:VEVENT
BEGIN:VEVENT
DTSTART;VALUE=DATE:20230302
DTEND;VALUE=DATE:20230305
DTSTAMP:20260423T231030
CREATED:20230304T021728Z
LAST-MODIFIED:20230304T022954Z
UID:682-1677715200-1677974399@taylorkiland.com
SUMMARY:Presentation: "The Hanoi Hilton's Silver Lining: What Vietnam POWs Have Taught Us"
DESCRIPTION:Texas Tech University presents “1973: The Paris Peace Accords and the Allied Withdrawal from South Vietnam”
URL:https://taylorkiland.com/event/presentation-the-hanoi-hiltons-silver-lining-what-vietnam-pows-have-taught-us/
LOCATION:The Vietnam Center & Sam Johnson Vietnam Archive\, 2805 15th Street\, Lubbock\, TX\, 79409\, United States
END:VEVENT
END:VCALENDAR